BEGIN:VCALENDAR
VERSION:2.0
PRODID:-//NECA Puget Sound Chapter - ECPv6.15.18//NONSGML v1.0//EN
CALSCALE:GREGORIAN
METHOD:PUBLISH
X-ORIGINAL-URL:https://necaseattle.org
X-WR-CALDESC:Events for NECA Puget Sound Chapter
REFRESH-INTERVAL;VALUE=DURATION:PT1H
X-Robots-Tag:noindex
X-PUBLISHED-TTL:PT1H
BEGIN:VTIMEZONE
TZID:America/Los_Angeles
BEGIN:DAYLIGHT
TZOFFSETFROM:-0800
TZOFFSETTO:-0700
TZNAME:PDT
DTSTART:20250309T100000
END:DAYLIGHT
BEGIN:STANDARD
TZOFFSETFROM:-0700
TZOFFSETTO:-0800
TZNAME:PST
DTSTART:20251102T090000
END:STANDARD
BEGIN:DAYLIGHT
TZOFFSETFROM:-0800
TZOFFSETTO:-0700
TZNAME:PDT
DTSTART:20260308T100000
END:DAYLIGHT
BEGIN:STANDARD
TZOFFSETFROM:-0700
TZOFFSETTO:-0800
TZNAME:PST
DTSTART:20261101T090000
END:STANDARD
BEGIN:DAYLIGHT
TZOFFSETFROM:-0800
TZOFFSETTO:-0700
TZNAME:PDT
DTSTART:20270314T100000
END:DAYLIGHT
BEGIN:STANDARD
TZOFFSETFROM:-0700
TZOFFSETTO:-0800
TZNAME:PST
DTSTART:20271107T090000
END:STANDARD
END:VTIMEZONE
BEGIN:VEVENT
DTSTART;TZID=America/Los_Angeles:20260113T080000
DTEND;TZID=America/Los_Angeles:20260115T170000
DTSTAMP:20260423T011908
CREATED:20251104T231454Z
LAST-MODIFIED:20260112T230519Z
UID:1276-1768291200-1768496400@necaseattle.org
SUMMARY:AI Workshop Series for Construction Leaders
DESCRIPTION:We’re excited to share information about our upcoming AI for Construction Trades workshop series! This workshop is designed specifically for field leaders\, project managers\, and construction professionals who want to apply AI to improve productivity\, safety\, and communication on the job. NO EXPERIENCE REQUIRED! \n  \nJanuary 13th-15th at the JATC in Renton. \nEach offering includes the full sequence of classes outlined below. \n  \n  \nDay 1 – AI for Construction Trades: Field Leaders Workshop\nDuration: Two half-day sessions available \nAudience: Foremen\, Superintendents\, Field Leaders \nOverview: Hands-on training focused on job-site applications of AI; safety\, daily reporting\, communication\, and problem solving. Participants will learn how to use ChatGPT and similar tools to handle real-world field tasks and build their first job-ready AI assistant. \n  \nDates & Additional Details: \nTuesday\, January 13th 8:00 AM – 12:00 PM \nOR \nTuesday\, January 13th 1:00 PM – 5 PM \n  \n  \nDay 2 – AI for Construction Trades: Project Managers & Engineers Workshop\nDuration: Two half-day sessions available \nAudience: PMs\, PEs\, and Office-Based Leaders \nOverview: A practical session covering prompt engineering\, AI-assisted contract and scope review\, schedule optimization\, and project communication workflows. Includes live demos\, “Prompt Battles\,” and the “Stump the AI” challenge to make it engaging and relevant. \n  \nDates & Additional Details: \nWednesday\, January 14th 8:00 AM – 12:00 PM \nOR \nWednesday\, January 14th 1:00 PM – 5:00 PM \n  \n  \nDay 3 – Build Custom AI Solutions Workshop\nDuration: Two half-day sessions available \nAudience: Construction Leaders\, PMs\, and Operations Staff – ADVANCED COURSE \nOverview: Intensive workshop where participants design and build their own AI systems to automate project documentation\, safety tracking\, and communication processes. Includes Microsoft Copilot integration\, workflow automation\, and team collaboration systems. This class is intended for those who are more familiar with AI or have taking one of the two classes prior to this one. \n  \nDates & Additional Details: \nThursday\, January 15th 8:00 Am – 12:00 PM \nOr \nThursday\, January 15th 1:00 PM – 5:00 PM
URL:https://necaseattle.org/event/ai-workshop-series-for-construction-leaders/
LOCATION:JATC\, 550 SW 7th St\, Renton\, WA\, 98057\, United States
ORGANIZER;CN="NECA":MAILTO:molly@necaseattle.org
END:VEVENT
BEGIN:VEVENT
DTSTART;TZID=America/Los_Angeles:20260116T100000
DTEND;TZID=America/Los_Angeles:20260116T110000
DTSTAMP:20260423T011908
CREATED:20251208T165625Z
LAST-MODIFIED:20251208T165755Z
UID:1302-1768557600-1768561200@necaseattle.org
SUMMARY:Safety Committee Meeting
DESCRIPTION:Mark your calendars for our upcoming Safety Committee Meeting\, Friday\, January 16th\, starting at 10:00AM. We are thrilled to be welcoming Robert Coomes\, Vice President of Engineering\, at CBS Field Services. Robert and his team will be reviewing some of the latest product development for Remote Switches (Chicken Switches). CBS Field Services is recognized as the industry leader in remote racking and remote switches solutions. To learn more about CBS\, you can view their website HERE. This is going to be an exciting presentation that you won’t want to miss! Lunch will be provided for the meeting. \nEvent Details\nDate: Friday\, January 16th\, 2026Time: 10:00 AM – 11:00 PM Location: Puget Sound Chapter\, NECA16001 Aurora Ave N\, Shoreline\, WA 98133 \nRSVP\nYou can RSVP by clicking HERE
URL:https://necaseattle.org/event/neca-safety-committee-meeting/
LOCATION:NECA Office\, 16001 Aurora Ave N\, Shoreline\, WA\, 98133-5653\, United States
END:VEVENT
BEGIN:VEVENT
DTSTART;TZID=America/Los_Angeles:20260126T090000
DTEND;TZID=America/Los_Angeles:20260128T170000
DTSTAMP:20260423T011908
CREATED:20251208T202406Z
LAST-MODIFIED:20251208T202406Z
UID:1303-1769418000-1769619600@necaseattle.org
SUMMARY:MEP Innovation Conference
DESCRIPTION:MCAA\, NECA\, and SMACNA are joining forces to deliver a conference brimming with educational opportunities\, led by industry professionals for industry professionals. This event will foster collaboration\, facilitate the sharing of best practices\, and drive collective progress towards the future of the industry. Join us in vibrant Austin\, TX\, where the industry’s most forward-thinking contractors\, innovators\, and technology leaders will come together to shape what’s next. \nEvent Details\nDate: January 26th-28th\, 2026Location: The Austin Marriott Downtown\, Austin\, TXRegistration: $1495 \nRegister HERE
URL:https://necaseattle.org/event/mep-innovation-conference/
END:VEVENT
END:VCALENDAR