BEGIN:VCALENDAR
VERSION:2.0
PRODID:-//NECA Puget Sound Chapter - ECPv6.15.18//NONSGML v1.0//EN
CALSCALE:GREGORIAN
METHOD:PUBLISH
X-WR-CALNAME:NECA Puget Sound Chapter
X-ORIGINAL-URL:https://necaseattle.org
X-WR-CALDESC:Events for NECA Puget Sound Chapter
REFRESH-INTERVAL;VALUE=DURATION:PT1H
X-Robots-Tag:noindex
X-PUBLISHED-TTL:PT1H
BEGIN:VTIMEZONE
TZID:America/Los_Angeles
BEGIN:DAYLIGHT
TZOFFSETFROM:-0800
TZOFFSETTO:-0700
TZNAME:PDT
DTSTART:20240310T100000
END:DAYLIGHT
BEGIN:STANDARD
TZOFFSETFROM:-0700
TZOFFSETTO:-0800
TZNAME:PST
DTSTART:20241103T090000
END:STANDARD
BEGIN:DAYLIGHT
TZOFFSETFROM:-0800
TZOFFSETTO:-0700
TZNAME:PDT
DTSTART:20250309T100000
END:DAYLIGHT
BEGIN:STANDARD
TZOFFSETFROM:-0700
TZOFFSETTO:-0800
TZNAME:PST
DTSTART:20251102T090000
END:STANDARD
BEGIN:DAYLIGHT
TZOFFSETFROM:-0800
TZOFFSETTO:-0700
TZNAME:PDT
DTSTART:20260308T100000
END:DAYLIGHT
BEGIN:STANDARD
TZOFFSETFROM:-0700
TZOFFSETTO:-0800
TZNAME:PST
DTSTART:20261101T090000
END:STANDARD
END:VTIMEZONE
BEGIN:VEVENT
DTSTART;TZID=America/Los_Angeles:20251204T130000
DTEND;TZID=America/Los_Angeles:20251204T170000
DTSTAMP:20260423T052936
CREATED:20251118T190513Z
LAST-MODIFIED:20251118T190716Z
UID:1285-1764853200-1764867600@necaseattle.org
SUMMARY:2023 NEC Code Update Class
DESCRIPTION:The Puget Sound Chapter of NECA is pleased to offer a 4-hour 2023 NEC Code Update class. Space is limited and RSVPs will be taken on a first come\, first served basis. \nEvent Details\nDate: Thursday\, December 4\, 2025Time: 1:00 PM – 5:00 PMLocation: Puget Sound Chapter\, NECA16001 Aurora Ave N\, Shoreline\, WA 98133 \nRSVP\nTo reserve your seat\, please email Justin Thayer at justin@necaseattle.org
URL:https://necaseattle.org/event/2023-nec-code-update-class/
LOCATION:NECA Office\, 16001 Aurora Ave N\, Shoreline\, WA\, 98133-5653\, United States
END:VEVENT
BEGIN:VEVENT
DTSTART;TZID=America/Los_Angeles:20251211T130000
DTEND;TZID=America/Los_Angeles:20251211T170000
DTSTAMP:20260423T052936
CREATED:20251118T190900Z
LAST-MODIFIED:20251118T190900Z
UID:1287-1765458000-1765472400@necaseattle.org
SUMMARY:RCW/WAC Training Class
DESCRIPTION:The Puget Sound Chapter of NECA is pleased to offer a 4-hour RCW/WAC Training Class. Space is limited and RSVPs will be taken on a first come\, first served basis. \nEvent Details\nDate: Thursday\, December 11\, 2025Time: 1:00 PM – 5:00 PMLocation: Puget Sound Chapter\, NECA16001 Aurora Ave N\, Shoreline\, WA 98133 \nRSVP\nTo reserve your seat\, please email Justin Thayer at justin@necaseattle.org
URL:https://necaseattle.org/event/rcw-wac-training-class/
LOCATION:NECA Office\, 16001 Aurora Ave N\, Shoreline\, WA\, 98133-5653\, United States
END:VEVENT
BEGIN:VEVENT
DTSTART;TZID=America/Los_Angeles:20251213T173000
DTEND;TZID=America/Los_Angeles:20251213T173000
DTSTAMP:20260423T052936
CREATED:20240819T204419Z
LAST-MODIFIED:20251104T230821Z
UID:1218-1765647000-1765647000@necaseattle.org
SUMMARY:NECA Christmas Party 2025
DESCRIPTION:Join us for an unforgettable evening of celebration\, elegance\, and festive fun with your NECA Puget Sound Chapter family. \nDate/Time: Saturday\, December 13\, 2025 \nLocation: Fairmont Hotel\, Seattle – 411 University Street\, Seattle\, WA 98101 \n✨ Cocktail Hour begins at 5:30 PM \n🎁 Interactive Experiences: Here’s a hint; there’s dice involved! \n🕺 Dinner • DJ • Photo Booth \n🧸 Please bring an unwrapped toy for our Toys for Tots donation drive & a small\, wrapped gift ($10-25) for the Dice Game! \n🎩 Dress Code: Festive / Black Tie Optional \n🏨 Parking & Hotel: Hotel information and booking link will be provided following your RSVP \n 
URL:https://necaseattle.org/event/neca-christmas-party-2/
LOCATION:Fairmont Olympic Hotel\, 411 University Way\, Seattle\, WA\, 98101\, United States
END:VEVENT
END:VCALENDAR